BEGIN:VCALENDAR
VERSION:2.0
PRODID:-//Tukios.com/
BEGIN:VEVENT
UID:b9036761-1a98-4572-b446-03ebb016d4ef@www.newcomerstlouis.com
DTSTAMP:20260424T033230Z
DTSTART:20260428T150000Z
DTEND:20260428T160000Z
SUMMARY:Funeral Service
DESCRIPTION:
URL:https://www.newcomerstlouis.com/obituaries/beverly-curtis
LOCATION: 2211 Clarkson Rd  Chesterfield MO 63005
GEO:38.6290494;-90.5797944
END:VEVENT
END:VCALENDAR