BEGIN:VCALENDAR
VERSION:2.0
PRODID:-//Tukios.com/
BEGIN:VEVENT
UID:48897b54-6d51-43dd-8356-d81dacd35b59@www.newcomerstlouis.com
DTSTAMP:20260424T033245Z
DTSTART:20260428T160000Z
DTEND:20260428T170000Z
SUMMARY:Graveside Service
DESCRIPTION:
URL:https://www.newcomerstlouis.com/obituaries/beverly-curtis
LOCATION:Holy Cross Cemetery 16200 Manchester Road  Ellisville MO 63011
GEO:38.5855051;-90.6094629
END:VEVENT
END:VCALENDAR