BEGIN:VCALENDAR
VERSION:2.0
PRODID:-//Tukios.com/
BEGIN:VEVENT
UID:5d6ae30a-5dfe-4eb0-9d13-3170f4a4a731@www.newcomerstlouis.com
DTSTAMP:20260422T200110Z
DTSTART:20260502T200000Z
DTEND:20260502T210000Z
SUMMARY:Funeral Service
DESCRIPTION:
URL:https://www.newcomerstlouis.com/obituaries/joey-spain
LOCATION: 837 Mid Rivers Mall Dr  St Peters MO 63376
GEO:38.7788181;-90.6254138
END:VEVENT
END:VCALENDAR