BEGIN:VCALENDAR
VERSION:2.0
PRODID:-//Tukios.com/
BEGIN:VEVENT
UID:671c7b16-9f37-4f39-bf75-fe41406f8142@www.newcomerstlouis.com
DTSTAMP:20260420T210104Z
DTSTART:20260428T153000Z
DTEND:20260428T163000Z
SUMMARY:Graveside Service
DESCRIPTION:
URL:https://www.newcomerstlouis.com/obituaries/kenneth-shaffar
LOCATION:Jefferson Barracks National Cemetery 2900 Sheridan Rd  St. Louis 
	MO 63125
GEO:38.5014312;-90.2881713
END:VEVENT
END:VCALENDAR