BEGIN:VCALENDAR
VERSION:2.0
PRODID:-//Tukios.com/
BEGIN:VEVENT
UID:3c660a34-e9d3-4d01-80e6-956460a3bb71@www.newcomerstlouis.com
DTSTAMP:20260424T225241Z
DTSTART:20260501T220000Z
DTEND:20260502T010000Z
SUMMARY:Celebration of Life
DESCRIPTION:
URL:https://www.newcomerstlouis.com/obituaries/marin-garza
LOCATION:Tubby’s Pub ‘nGrub 506 Droste Road  Saint Charles MO 63301
GEO:38.7845575;-90.5090286
END:VEVENT
END:VCALENDAR