BEGIN:VCALENDAR
VERSION:2.0
PRODID:-//Tukios.com/
BEGIN:VEVENT
UID:7efb427a-1c4e-4684-89c2-376d81c85c9c@www.newcomerstlouis.com
DTSTAMP:20260425T020216Z
DTSTART:20260503T210000Z
DTEND:20260504T010000Z
SUMMARY:Visitation
DESCRIPTION:
URL:https://www.newcomerstlouis.com/obituaries/mikel-smith
LOCATION: 837 Mid Rivers Mall Dr  St Peters MO 63376
GEO:38.7788181;-90.6254138
END:VEVENT
END:VCALENDAR