BEGIN:VCALENDAR
VERSION:2.0
PRODID:-//Tukios.com/
BEGIN:VEVENT
UID:0c5a0ff0-7167-4156-b009-46e7d7d3fe52@www.newcomerstlouis.com
DTSTAMP:20260425T020405Z
DTSTART:20260504T163000Z
DTEND:20260504T173000Z
SUMMARY:Funeral Service
DESCRIPTION:
URL:https://www.newcomerstlouis.com/obituaries/mikel-smith
LOCATION: 837 Mid Rivers Mall Dr  St Peters MO 63376
GEO:38.7788181;-90.6254138
END:VEVENT
END:VCALENDAR