BEGIN:VCALENDAR
VERSION:2.0
PRODID:-//Tukios.com/
BEGIN:VEVENT
UID:85639d12-c64b-44d0-b70f-e44388bd66a4@www.newcomerstlouis.com
DTSTAMP:20260425T015843Z
DTSTART:20260504T180000Z
DTEND:20260504T190000Z
SUMMARY:Graveside Service
DESCRIPTION:
URL:https://www.newcomerstlouis.com/obituaries/mikel-smith
LOCATION:St. Charles Memorial Gardens 3950 W Clay St  St Charles MO 63301
GEO:38.7954213;-90.5669969
END:VEVENT
END:VCALENDAR