BEGIN:VCALENDAR
VERSION:2.0
PRODID:-//Tukios.com/
BEGIN:VEVENT
UID:6b4863fc-bb68-46d4-b18b-c0845a69493a@www.newcomerstlouis.com
DTSTAMP:20260422T021004Z
DTSTART:20260423T143000Z
DTEND:20260423T183000Z
SUMMARY:Visitation
DESCRIPTION:
URL:https://www.newcomerstlouis.com/obituaries/neal-krem
LOCATION: 2211 Clarkson Rd  Chesterfield MO 63005
GEO:38.6290494;-90.5797944
END:VEVENT
END:VCALENDAR