BEGIN:VCALENDAR
VERSION:2.0
PRODID:-//Tukios.com/
BEGIN:VEVENT
UID:cb88b43b-78b5-4a0c-973e-59104a03337d@www.newcomerstlouis.com
DTSTAMP:20260422T021155Z
DTSTART:20260423T191500Z
DTEND:20260423T193000Z
SUMMARY:Graveside Service
DESCRIPTION:
URL:https://www.newcomerstlouis.com/obituaries/neal-krem
LOCATION:United Hebrew Temple Cemetery 7855 Canton Ave  St. Louis MO 
	63130
GEO:38.6770696;-90.3380708
END:VEVENT
END:VCALENDAR