BEGIN:VCALENDAR
VERSION:2.0
PRODID:-//Tukios.com/
BEGIN:VEVENT
UID:163dc499-4783-4148-9476-b6f6b3648457@www.newcomerstlouis.com
DTSTAMP:20260425T223039Z
DTSTART:20260502T160000Z
DTEND:20260502T180000Z
SUMMARY:Visitation
DESCRIPTION:
URL:https://www.newcomerstlouis.com/obituaries/phillip-wicks
LOCATION: 837 Mid Rivers Mall Dr  St Peters MO 63376
GEO:38.7788181;-90.6254138
END:VEVENT
END:VCALENDAR