BEGIN:VCALENDAR
VERSION:2.0
PRODID:-//Tukios.com/
BEGIN:VEVENT
UID:88717039-3c08-45f5-a84d-4cff8da34e2c@www.newcomerstlouis.com
DTSTAMP:20260425T222554Z
DTSTART:20260502T180000Z
DTEND:20260502T190000Z
SUMMARY:Memorial Service
DESCRIPTION:
URL:https://www.newcomerstlouis.com/obituaries/phillip-wicks
LOCATION: 837 Mid Rivers Mall Dr  St Peters MO 63376
GEO:38.7788181;-90.6254138
END:VEVENT
END:VCALENDAR